BEGIN:VCALENDAR
VERSION:2.0
PRODID:-//Finlands Svenska Skolungdomsf&ouml;rbund FSS rf. - ECPv6.15.20//NONSGML v1.0//EN
CALSCALE:GREGORIAN
METHOD:PUBLISH
X-WR-CALNAME:Finlands Svenska Skolungdomsf&ouml;rbund FSS rf.
X-ORIGINAL-URL:https://www.skolungdom.fi
X-WR-CALDESC:Händelser för Finlands Svenska Skolungdomsf&ouml;rbund FSS rf.
REFRESH-INTERVAL;VALUE=DURATION:PT1H
X-Robots-Tag:noindex
X-PUBLISHED-TTL:PT1H
BEGIN:VTIMEZONE
TZID:Europe/Helsinki
BEGIN:DAYLIGHT
TZOFFSETFROM:+0200
TZOFFSETTO:+0300
TZNAME:EEST
DTSTART:20230326T010000
END:DAYLIGHT
BEGIN:STANDARD
TZOFFSETFROM:+0300
TZOFFSETTO:+0200
TZNAME:EET
DTSTART:20231029T010000
END:STANDARD
BEGIN:DAYLIGHT
TZOFFSETFROM:+0200
TZOFFSETTO:+0300
TZNAME:EEST
DTSTART:20240331T010000
END:DAYLIGHT
BEGIN:STANDARD
TZOFFSETFROM:+0300
TZOFFSETTO:+0200
TZNAME:EET
DTSTART:20241027T010000
END:STANDARD
BEGIN:DAYLIGHT
TZOFFSETFROM:+0200
TZOFFSETTO:+0300
TZNAME:EEST
DTSTART:20250330T010000
END:DAYLIGHT
BEGIN:STANDARD
TZOFFSETFROM:+0300
TZOFFSETTO:+0200
TZNAME:EET
DTSTART:20251026T010000
END:STANDARD
END:VTIMEZONE
BEGIN:VEVENT
DTSTART;TZID=Europe/Helsinki:20241213T150000
DTEND;TZID=Europe/Helsinki:20241213T210000
DTSTAMP:20260422T032034
CREATED:20241030T153311Z
LAST-MODIFIED:20241111T131938Z
UID:9538-1734102000-1734123600@www.skolungdom.fi
SUMMARY:FSS Glöggen 2024
DESCRIPTION:Äntligen har det återigen blivit dags för FSS årliga glögg! Fredagen den 13 december kl. 15 framåt bjuder vi bjuder vi på glögg\, tilltugg och underhållning på vårt nyrenoverade kansli i Helsingfors och alla aktiva\, alumner\, samarbetspartners och övriga glöggälskare är varmt välkomna! \nGlöggen är varm från och med kl.15 och det går att droppa in när som helst under kvällen. \nVi önskar att de som redan vet att de är på väg gör en preliminär anmälan\, så att vi lättare kan uppskatta hur många besökare som kommer! Länk till anmälan hittar du här\, samt längre ner på sidan! Anmälan är inte bindande! \nHoppas vi ses! \nPreliminärt program för kvällen publiceras snart! \nAnmäl dig HÄR!
URL:https://www.skolungdom.fi/evenemang/fss-gloggen-2024/
LOCATION:FSS Kansli\, Kaserngatan 1 D 65-66\, Helsingfors\, 00140\, Finland
ATTACH;FMTTYPE=image/png:https://www.skolungdom.fi/wp-content/uploads/2024/10/FSS-Glogg-2024-Banner-swe.png
ORGANIZER;CN="FSS":MAILTO:info@skolungdom.fi
END:VEVENT
END:VCALENDAR