BEGIN:VCALENDAR
VERSION:2.0
PRODID:-//Finlands Svenska Skolungdomsf&ouml;rbund FSS rf. - ECPv6.15.20//NONSGML v1.0//EN
CALSCALE:GREGORIAN
METHOD:PUBLISH
X-ORIGINAL-URL:https://www.skolungdom.fi
X-WR-CALDESC:Händelser för Finlands Svenska Skolungdomsf&ouml;rbund FSS rf.
REFRESH-INTERVAL;VALUE=DURATION:PT1H
X-Robots-Tag:noindex
X-PUBLISHED-TTL:PT1H
BEGIN:VTIMEZONE
TZID:Europe/Helsinki
BEGIN:DAYLIGHT
TZOFFSETFROM:+0200
TZOFFSETTO:+0300
TZNAME:EEST
DTSTART:20240331T010000
END:DAYLIGHT
BEGIN:STANDARD
TZOFFSETFROM:+0300
TZOFFSETTO:+0200
TZNAME:EET
DTSTART:20241027T010000
END:STANDARD
BEGIN:DAYLIGHT
TZOFFSETFROM:+0200
TZOFFSETTO:+0300
TZNAME:EEST
DTSTART:20250330T010000
END:DAYLIGHT
BEGIN:STANDARD
TZOFFSETFROM:+0300
TZOFFSETTO:+0200
TZNAME:EET
DTSTART:20251026T010000
END:STANDARD
BEGIN:DAYLIGHT
TZOFFSETFROM:+0200
TZOFFSETTO:+0300
TZNAME:EEST
DTSTART:20260329T010000
END:DAYLIGHT
BEGIN:STANDARD
TZOFFSETFROM:+0300
TZOFFSETTO:+0200
TZNAME:EET
DTSTART:20261025T010000
END:STANDARD
END:VTIMEZONE
BEGIN:VEVENT
DTSTART;TZID=Europe/Helsinki:20250203T180000
DTEND;TZID=Europe/Helsinki:20250301T200000
DTSTAMP:20260422T173637
CREATED:20250203T170249Z
LAST-MODIFIED:20250203T170528Z
UID:10294-1738605600-1740859200@www.skolungdom.fi
SUMMARY:Prepkvällar inför vårens skrivningar
DESCRIPTION:FSS ordnar prepkvällar i vår inför studentskrivningarna!\nVill du förbereda dig inför studentskrivningarna i modersmål\, samhällslära eller psykologi? FSS erbjuder prepkvällar som hjälper dig repetera och strukturera din inlärning tillsammans med experter. Prepkvällarna riktar sig till alla som vill säkerställa att de är väl förberedda inför studentexamen. Tillfällena har varit mycket populära och vi rekommenderar varmt att du deltar!\nVad erbjuds? \n\nEffektiv repetition tillsammans med ämnesexperter.\nKonkreta tips och verktyg inför skrivningarna.\nKostnadsfritt prep-material och övningar för självstudier.\n\nPrepkvällarna hålls på distans via Google Meet och är helt gratis!\nAnmälan: https://forms.gle/MNvkH6Vw5kYPPJP76\nAnmäl dig via länken senast två dagar innan det tillfälle deltar på. Du kan anmäla dig till flera tillfällen. Länk till Google Meet\, materialbanken och annan viktig information skickas till din e-post i god tid före tillfället. \nProgram för prepkvällarna\n\nSamhällslära – 10.2 kl. 18-20\nVill du repetera samhällslärans centrala teman\, som avtal\, EU:s befogenheter eller presidentens uppgifter?\nDenna prepkväll passar dig som vill: \n\nFå en snabb genomgång av kursens viktigaste delar.\nFördjupa dig i specifika områden och få hjälp att besvara frågor.\nPrepmaterial och övningar.\n\n\nModersmål – 24.2 kl. 18–20\nHur skapar man en röd tråd? Hur analyserar man texter på bästa sätt?\nUnder denna prepkväll får du: \n\nEn genomgång av läs- och skrivkompetens med en expert.\nTips från en tidigare student om hur man når höga poäng.\nTillgång till prepmaterial och möjlighet att delta i praktiska övningar.\n\n\nPsykologi – 1.3 kl. 17–20\nLär dig skriva korrekta essäer och repetera centrala teorierna och begreppen!\nUnder kvällen går experten igenom: \n\nRelevanta teorier och termer.\nTips på hur man strukturerar sina svar och analyserar frågor.\nPrepmaterial och övningar.\n\n\nTill Anmälan \nMissa inte chansen att förbereda dig på bästa sätt inför vårens skrivningar!
URL:https://www.skolungdom.fi/evenemang/prepkvallar-infor-varens-skrivningar/
END:VEVENT
END:VCALENDAR