BEGIN:VCALENDAR
VERSION:2.0
PRODID:-//Finlands Svenska Skolungdomsf&ouml;rbund FSS rf. - ECPv6.15.20//NONSGML v1.0//EN
CALSCALE:GREGORIAN
METHOD:PUBLISH
X-ORIGINAL-URL:https://www.skolungdom.fi
X-WR-CALDESC:Händelser för Finlands Svenska Skolungdomsf&ouml;rbund FSS rf.
REFRESH-INTERVAL;VALUE=DURATION:PT1H
X-Robots-Tag:noindex
X-PUBLISHED-TTL:PT1H
BEGIN:VTIMEZONE
TZID:Europe/Helsinki
BEGIN:DAYLIGHT
TZOFFSETFROM:+0200
TZOFFSETTO:+0300
TZNAME:EEST
DTSTART:20230326T010000
END:DAYLIGHT
BEGIN:STANDARD
TZOFFSETFROM:+0300
TZOFFSETTO:+0200
TZNAME:EET
DTSTART:20231029T010000
END:STANDARD
BEGIN:DAYLIGHT
TZOFFSETFROM:+0200
TZOFFSETTO:+0300
TZNAME:EEST
DTSTART:20240331T010000
END:DAYLIGHT
BEGIN:STANDARD
TZOFFSETFROM:+0300
TZOFFSETTO:+0200
TZNAME:EET
DTSTART:20241027T010000
END:STANDARD
BEGIN:DAYLIGHT
TZOFFSETFROM:+0200
TZOFFSETTO:+0300
TZNAME:EEST
DTSTART:20250330T010000
END:DAYLIGHT
BEGIN:STANDARD
TZOFFSETFROM:+0300
TZOFFSETTO:+0200
TZNAME:EET
DTSTART:20251026T010000
END:STANDARD
END:VTIMEZONE
BEGIN:VEVENT
DTSTART;TZID=Europe/Helsinki:20240910T180000
DTEND;TZID=Europe/Helsinki:20240910T190000
DTSTAMP:20260423T011646
CREATED:20240903T062812Z
LAST-MODIFIED:20240903T063532Z
UID:9296-1725991200-1725994800@www.skolungdom.fi
SUMMARY:Tips och pepp inför studenskrivningarna!
DESCRIPTION:Välkommen att peppa inför studentskrivningarna med FSS! \nFSS egna studentskrivningsexperter är på plats och kan svara på frågor om näst intill alla ämnen. \nEvenemanget är helt gratis och äger rum online\, så du kan delta varifrån som helst. Även lärare och föräldrar är välkomna att lyssna på! \n  \nAnmäl dig till evenemanget här! \n  \nVi ordnar också en prepkväll i Finska\, läs mer här!
URL:https://www.skolungdom.fi/evenemang/tips-och-pepp-infor-studenskrivningarna/
LOCATION:Online
ORGANIZER;CN="FSS":MAILTO:info@skolungdom.fi
END:VEVENT
BEGIN:VEVENT
DTSTART;TZID=Europe/Helsinki:20240912T170000
DTEND;TZID=Europe/Helsinki:20240912T183000
DTSTAMP:20260423T011646
CREATED:20240903T062416Z
LAST-MODIFIED:20240903T062416Z
UID:9293-1726160400-1726165800@www.skolungdom.fi
SUMMARY:Prepkväll i Finska
DESCRIPTION:FSS erbjuder i år en helt gratis prepkväll i finska inför studentskrivningarna hösten 2024! \nVi har bjudit in en extern expert som är beredd att svara på alla era frågor gällande finskan\, samt ge tips\, råd och övningar som kan hjälpa dig nå bättre resultat! \nI samband med anmälan kan du på förhand skicka in frågor du önskar att tas upp under kvällen\, men det ges också gott om tid för frågor live under evenemanget. \n  \nPrepkvällen är helt gratis och äger rum online\, så du kan delta varifrån som helst. Även lärare och föräldrar är välkomna att delta. \nAnmäl dig via denna länk. \n  \nFSS ordnar också en prepkväll med allmänna tips inför studentskrivningarna\, läs mer här.
URL:https://www.skolungdom.fi/evenemang/prepkvall-i-finska/
LOCATION:Online
ORGANIZER;CN="FSS":MAILTO:info@skolungdom.fi
END:VEVENT
BEGIN:VEVENT
DTSTART;TZID=Europe/Helsinki:20240914T120000
DTEND;TZID=Europe/Helsinki:20240914T173000
DTSTAMP:20260423T011646
CREATED:20240814T080652Z
LAST-MODIFIED:20240909T083415Z
UID:9076-1726315200-1726335000@www.skolungdom.fi
SUMMARY:Höstevenemang i Vasa 14 september
DESCRIPTION:Anmäl dig här!  \nOBS! Endast 20 platser\, kostnadsfritt deltagande om du anmäler dig innan den 2.9.\n\nHöstevenemanget ordnas åter igen den 14.9\, men denna gång på ett lite nyare och roligare sätt\, häng med. Lär känna andra\, lär känna FSS och våra utskott\, ät god pizza och ha det roligt i Vasa.\n\nVi inleder dagen kl. 12 i Folkhälsanhuset i Vasa (Rådhusgatan 25\, 65100 Vasa). Vi börjar med att lära känna varandra med IceBreakers. Efter det får ni höra kort vad FSS gör och är. Under evenemanget får ni också bekanta er med FSS utskott\, idea verksamhet osv. Efter det får vi alla njuta av pizza\, spela kahoot och andra roliga spel. Evenemanget tar slut kl. 19:30. \n\nEvenemaget är ännu kostnadsfritt men kostar 20€ om du anmäler dig efter den 2.9\, så anmäl dig snabbt så missar du inte chansen att delta gratis. Det finns endast 20 deltagarplatser. \n  \nFSS står för eventuella buss- och tågresor till och från evenemanget. FSS står även för mellanmål och pizza. \nHoppas vi ses! \nVid frågor\, kommentarer eller önskemål kan du skicka  till info@skolungdom.fi eller vara direkt i kontakt med: \n\nNiko Partanen (niko.partanen@skolungdom.fi)
URL:https://www.skolungdom.fi/evenemang/hostevenemang-i-vasa-14-september/
LOCATION:Folkhälsanhuset Wasa\, Wasaborgsgränd 4\, Vasa\, 65100\, Finland
ATTACH;FMTTYPE=image/png:https://www.skolungdom.fi/wp-content/uploads/2024/08/FSS-hostevenemang-2024-Story.png
ORGANIZER;CN="FSS":MAILTO:info@skolungdom.fi
END:VEVENT
END:VCALENDAR